BEGIN:VCALENDAR
VERSION:2.0
PRODID:Abfalltermine Bamberg
NAME:Abfalltermine für Ebrach\, Bamberg
DESCRIPTION:Abfalltermine für Ebrach\, Bamberg
LAST-MODIFIED:20251017T100000Z
BEGIN:VTIMEZONE
TZID:Europe/Berlin
LAST-MODIFIED:20260306T231828Z
TZURL:https://www.tzurl.org/zoneinfo-outlook/Europe/Berlin
X-LIC-LOCATION:Europe/Berlin
BEGIN:DAYLIGHT
TZNAME:CEST
TZOFFSETFROM:+0100
TZOFFSETTO:+0200
DTSTART:19700329T020000
RRULE:FREQ=YEARLY;BYDAY=-1SU;BYMONTH=3
END:DAYLIGHT
BEGIN:STANDARD
TZNAME:CET
TZOFFSETFROM:+0200
TZOFFSETTO:+0100
DTSTART:19701025T030000
RRULE:FREQ=YEARLY;BYDAY=-1SU;BYMONTH=10
END:STANDARD
END:VTIMEZONE
BEGIN:VEVENT
UID:dbe1d6af-7158-4233-95bc-01300b8a385d
DTSTAMP:20260423T102331Z
LAST-MODIFIED:20251017T100000Z
CREATED:20251017T100000Z
SUMMARY;LANGUAGE=de-de:Restmülltonne
LOCATION:Ebrach\, Bamberg
DTSTART;VALUE=DATE:20260112
END:VEVENT
BEGIN:VEVENT
UID:52238954-c35c-4545-bff0-271eddf1ece6
DTSTAMP:20260423T102331Z
LAST-MODIFIED:20251017T100000Z
CREATED:20251017T100000Z
SUMMARY;LANGUAGE=de-de:Restmülltonne
LOCATION:Ebrach\, Bamberg
DTSTART;VALUE=DATE:20260202
END:VEVENT
BEGIN:VEVENT
UID:15c474da-0899-4be8-bfc2-5ea55f77c738
DTSTAMP:20260423T102331Z
LAST-MODIFIED:20251017T100000Z
CREATED:20251017T100000Z
SUMMARY;LANGUAGE=de-de:Restmülltonne
LOCATION:Ebrach\, Bamberg
DTSTART;VALUE=DATE:20260209
END:VEVENT
BEGIN:VEVENT
UID:0c369db5-4f99-4e67-93e4-830cf5586c79
DTSTAMP:20260423T102331Z
LAST-MODIFIED:20251017T100000Z
CREATED:20251017T100000Z
SUMMARY;LANGUAGE=de-de:Restmülltonne
LOCATION:Ebrach\, Bamberg
DTSTART;VALUE=DATE:20260223
END:VEVENT
BEGIN:VEVENT
UID:7faeaaa8-923e-46d2-b914-ff191dad446b
DTSTAMP:20260423T102331Z
LAST-MODIFIED:20251017T100000Z
CREATED:20251017T100000Z
SUMMARY;LANGUAGE=de-de:Restmülltonne
LOCATION:Ebrach\, Bamberg
DTSTART;VALUE=DATE:20260309
END:VEVENT
BEGIN:VEVENT
UID:e09b0b8e-24ae-437e-a369-3cbc1cddac2b
DTSTAMP:20260423T102331Z
LAST-MODIFIED:20251017T100000Z
CREATED:20251017T100000Z
SUMMARY;LANGUAGE=de-de:Restmülltonne
LOCATION:Ebrach\, Bamberg
DTSTART;VALUE=DATE:20260323
END:VEVENT
BEGIN:VEVENT
UID:1eaa7c1a-a03b-49d6-b10b-a9498411290e
DTSTAMP:20260423T102331Z
LAST-MODIFIED:20251017T100000Z
CREATED:20251017T100000Z
SUMMARY;LANGUAGE=de-de:Restmülltonne
LOCATION:Ebrach\, Bamberg
DTSTART;VALUE=DATE:20260407
END:VEVENT
BEGIN:VEVENT
UID:6a2cbf0f-0f3b-4e61-8e31-08bf88d08193
DTSTAMP:20260423T102331Z
LAST-MODIFIED:20251017T100000Z
CREATED:20251017T100000Z
SUMMARY;LANGUAGE=de-de:Restmülltonne
LOCATION:Ebrach\, Bamberg
DTSTART;VALUE=DATE:20260420
END:VEVENT
BEGIN:VEVENT
UID:3ce57a74-17e6-41a5-a4ab-9ab64dbef198
DTSTAMP:20260423T102331Z
LAST-MODIFIED:20251017T100000Z
CREATED:20251017T100000Z
SUMMARY;LANGUAGE=de-de:Restmülltonne
LOCATION:Ebrach\, Bamberg
DTSTART;VALUE=DATE:20260505
END:VEVENT
BEGIN:VEVENT
UID:ef6fc002-76b4-49f9-acb1-8c6fa5c6c2f9
DTSTAMP:20260423T102331Z
LAST-MODIFIED:20251017T100000Z
CREATED:20251017T100000Z
SUMMARY;LANGUAGE=de-de:Restmülltonne
LOCATION:Ebrach\, Bamberg
DTSTART;VALUE=DATE:20260518
END:VEVENT
BEGIN:VEVENT
UID:efe32dfb-0f52-4f17-993a-010e7e3ef8de
DTSTAMP:20260423T102331Z
LAST-MODIFIED:20251017T100000Z
CREATED:20251017T100000Z
SUMMARY;LANGUAGE=de-de:Restmülltonne
LOCATION:Ebrach\, Bamberg
DTSTART;VALUE=DATE:20260601
END:VEVENT
BEGIN:VEVENT
UID:4e78a508-d5ae-46b8-a17e-c0ef0c7d87d2
DTSTAMP:20260423T102331Z
LAST-MODIFIED:20251017T100000Z
CREATED:20251017T100000Z
SUMMARY;LANGUAGE=de-de:Restmülltonne
LOCATION:Ebrach\, Bamberg
DTSTART;VALUE=DATE:20260615
END:VEVENT
BEGIN:VEVENT
UID:8a94aa03-bb3e-49e1-a3af-45a09ef8e364
DTSTAMP:20260423T102331Z
LAST-MODIFIED:20251017T100000Z
CREATED:20251017T100000Z
SUMMARY;LANGUAGE=de-de:Restmülltonne
LOCATION:Ebrach\, Bamberg
DTSTART;VALUE=DATE:20260629
END:VEVENT
BEGIN:VEVENT
UID:99f184bd-2096-44d1-be44-c74a1d32b579
DTSTAMP:20260423T102331Z
LAST-MODIFIED:20251017T100000Z
CREATED:20251017T100000Z
SUMMARY;LANGUAGE=de-de:Restmülltonne
LOCATION:Ebrach\, Bamberg
DTSTART;VALUE=DATE:20260713
END:VEVENT
BEGIN:VEVENT
UID:bedcd7d8-9b47-4f81-91fe-03d41d47e329
DTSTAMP:20260423T102331Z
LAST-MODIFIED:20251017T100000Z
CREATED:20251017T100000Z
SUMMARY;LANGUAGE=de-de:Restmülltonne
LOCATION:Ebrach\, Bamberg
DTSTART;VALUE=DATE:20260727
END:VEVENT
BEGIN:VEVENT
UID:47380a3c-ded3-435f-a3d8-a1f1ef7fc322
DTSTAMP:20260423T102331Z
LAST-MODIFIED:20251017T100000Z
CREATED:20251017T100000Z
SUMMARY;LANGUAGE=de-de:Restmülltonne
LOCATION:Ebrach\, Bamberg
DTSTART;VALUE=DATE:20260810
END:VEVENT
BEGIN:VEVENT
UID:0156f27f-028a-4a5c-bee7-d049fd8f72b7
DTSTAMP:20260423T102331Z
LAST-MODIFIED:20251017T100000Z
CREATED:20251017T100000Z
SUMMARY;LANGUAGE=de-de:Restmülltonne
LOCATION:Ebrach\, Bamberg
DTSTART;VALUE=DATE:20260824
END:VEVENT
BEGIN:VEVENT
UID:262e7d39-b50f-474a-b57d-c667cc8a8491
DTSTAMP:20260423T102331Z
LAST-MODIFIED:20251017T100000Z
CREATED:20251017T100000Z
SUMMARY;LANGUAGE=de-de:Restmülltonne
LOCATION:Ebrach\, Bamberg
DTSTART;VALUE=DATE:20260907
END:VEVENT
BEGIN:VEVENT
UID:a9369a93-c09a-493a-9eea-921fb7b824a6
DTSTAMP:20260423T102331Z
LAST-MODIFIED:20251017T100000Z
CREATED:20251017T100000Z
SUMMARY;LANGUAGE=de-de:Restmülltonne
LOCATION:Ebrach\, Bamberg
DTSTART;VALUE=DATE:20260921
END:VEVENT
BEGIN:VEVENT
UID:b213507e-762a-487b-bf68-573d4200ccb3
DTSTAMP:20260423T102331Z
LAST-MODIFIED:20251017T100000Z
CREATED:20251017T100000Z
SUMMARY;LANGUAGE=de-de:Restmülltonne
LOCATION:Ebrach\, Bamberg
DTSTART;VALUE=DATE:20261005
END:VEVENT
BEGIN:VEVENT
UID:b0a65e4e-56ef-4adf-89a3-08b09be038e6
DTSTAMP:20260423T102331Z
LAST-MODIFIED:20251017T100000Z
CREATED:20251017T100000Z
SUMMARY;LANGUAGE=de-de:Restmülltonne
LOCATION:Ebrach\, Bamberg
DTSTART;VALUE=DATE:20261019
END:VEVENT
BEGIN:VEVENT
UID:0819fd75-5ebb-42a6-ae96-bd90fb1d8f87
DTSTAMP:20260423T102331Z
LAST-MODIFIED:20251017T100000Z
CREATED:20251017T100000Z
SUMMARY;LANGUAGE=de-de:Restmülltonne
LOCATION:Ebrach\, Bamberg
DTSTART;VALUE=DATE:20261102
END:VEVENT
BEGIN:VEVENT
UID:b52fafa0-0168-4cca-9cd0-558419ebc13b
DTSTAMP:20260423T102331Z
LAST-MODIFIED:20251017T100000Z
CREATED:20251017T100000Z
SUMMARY;LANGUAGE=de-de:Restmülltonne
LOCATION:Ebrach\, Bamberg
DTSTART;VALUE=DATE:20261116
END:VEVENT
BEGIN:VEVENT
UID:d830024e-3512-45fa-ae3c-bb96448c93ba
DTSTAMP:20260423T102331Z
LAST-MODIFIED:20251017T100000Z
CREATED:20251017T100000Z
SUMMARY;LANGUAGE=de-de:Restmülltonne
LOCATION:Ebrach\, Bamberg
DTSTART;VALUE=DATE:20261130
END:VEVENT
BEGIN:VEVENT
UID:405c5272-948c-49a5-9096-664402c7a4c3
DTSTAMP:20260423T102331Z
LAST-MODIFIED:20251017T100000Z
CREATED:20251017T100000Z
SUMMARY;LANGUAGE=de-de:Restmülltonne
LOCATION:Ebrach\, Bamberg
DTSTART;VALUE=DATE:20261212
END:VEVENT
BEGIN:VEVENT
UID:2949042c-9401-45df-8f43-d63c555a7040
DTSTAMP:20260423T102331Z
LAST-MODIFIED:20251017T100000Z
CREATED:20251017T100000Z
SUMMARY;LANGUAGE=de-de:Restmülltonne
LOCATION:Ebrach\, Bamberg
DTSTART;VALUE=DATE:20261228
END:VEVENT
BEGIN:VEVENT
UID:8ba9df4e-d2c6-4fdd-809c-3600f03c5249
DTSTAMP:20260423T102331Z
LAST-MODIFIED:20251017T100000Z
CREATED:20251017T100000Z
SUMMARY;LANGUAGE=de-de:Biotonne
LOCATION:Ebrach\, Bamberg
DTSTART;VALUE=DATE:20260105
END:VEVENT
BEGIN:VEVENT
UID:eb9ed9ea-d12c-43f0-a7bf-eafd68cafe31
DTSTAMP:20260423T102331Z
LAST-MODIFIED:20251017T100000Z
CREATED:20251017T100000Z
SUMMARY;LANGUAGE=de-de:Biotonne
LOCATION:Ebrach\, Bamberg
DTSTART;VALUE=DATE:20260119
END:VEVENT
BEGIN:VEVENT
UID:0417acce-668c-4a8f-b95d-89ab235f6b55
DTSTAMP:20260423T102331Z
LAST-MODIFIED:20251017T100000Z
CREATED:20251017T100000Z
SUMMARY;LANGUAGE=de-de:Biotonne
LOCATION:Ebrach\, Bamberg
DTSTART;VALUE=DATE:20260216
END:VEVENT
BEGIN:VEVENT
UID:7a38a596-1ac4-4aa3-8d1f-a61ada2710fa
DTSTAMP:20260423T102331Z
LAST-MODIFIED:20251017T100000Z
CREATED:20251017T100000Z
SUMMARY;LANGUAGE=de-de:Biotonne
LOCATION:Ebrach\, Bamberg
DTSTART;VALUE=DATE:20260302
END:VEVENT
BEGIN:VEVENT
UID:57b07d3e-006f-4db9-b3f3-6f878f806730
DTSTAMP:20260423T102331Z
LAST-MODIFIED:20251017T100000Z
CREATED:20251017T100000Z
SUMMARY;LANGUAGE=de-de:Biotonne
LOCATION:Ebrach\, Bamberg
DTSTART;VALUE=DATE:20260316
END:VEVENT
BEGIN:VEVENT
UID:7c2b9b3d-5b61-4ffc-8c07-e02886706c8f
DTSTAMP:20260423T102331Z
LAST-MODIFIED:20251017T100000Z
CREATED:20251017T100000Z
SUMMARY;LANGUAGE=de-de:Biotonne
LOCATION:Ebrach\, Bamberg
DTSTART;VALUE=DATE:20260328
END:VEVENT
BEGIN:VEVENT
UID:c41ab595-f63c-4c9c-bec5-c3fccbf00aaa
DTSTAMP:20260423T102331Z
LAST-MODIFIED:20251017T100000Z
CREATED:20251017T100000Z
SUMMARY;LANGUAGE=de-de:Biotonne
LOCATION:Ebrach\, Bamberg
DTSTART;VALUE=DATE:20260413
END:VEVENT
BEGIN:VEVENT
UID:d4139c1e-1ae5-4226-a369-49d5c81e89db
DTSTAMP:20260423T102331Z
LAST-MODIFIED:20251017T100000Z
CREATED:20251017T100000Z
SUMMARY;LANGUAGE=de-de:Biotonne
LOCATION:Ebrach\, Bamberg
DTSTART;VALUE=DATE:20260427
END:VEVENT
BEGIN:VEVENT
UID:41738ec8-b245-44f4-9af4-33a0a7c83488
DTSTAMP:20260423T102331Z
LAST-MODIFIED:20251017T100000Z
CREATED:20251017T100000Z
SUMMARY;LANGUAGE=de-de:Biotonne
LOCATION:Ebrach\, Bamberg
DTSTART;VALUE=DATE:20260511
END:VEVENT
BEGIN:VEVENT
UID:67bce9e5-1cc4-4fcf-9468-0cb57aedbc23
DTSTAMP:20260423T102331Z
LAST-MODIFIED:20251017T100000Z
CREATED:20251017T100000Z
SUMMARY;LANGUAGE=de-de:Biotonne
LOCATION:Ebrach\, Bamberg
DTSTART;VALUE=DATE:20260526
END:VEVENT
BEGIN:VEVENT
UID:c485db24-956f-45a5-80c5-0591b03fcb82
DTSTAMP:20260423T102331Z
LAST-MODIFIED:20251017T100000Z
CREATED:20251017T100000Z
SUMMARY;LANGUAGE=de-de:Biotonne
LOCATION:Ebrach\, Bamberg
DTSTART;VALUE=DATE:20260608
END:VEVENT
BEGIN:VEVENT
UID:d848b31e-641e-48c2-a1cd-d71415605e6d
DTSTAMP:20260423T102331Z
LAST-MODIFIED:20251017T100000Z
CREATED:20251017T100000Z
SUMMARY;LANGUAGE=de-de:Biotonne
LOCATION:Ebrach\, Bamberg
DTSTART;VALUE=DATE:20260622
END:VEVENT
BEGIN:VEVENT
UID:fabfccb4-2bc0-4e33-be79-2400b86bbfa6
DTSTAMP:20260423T102331Z
LAST-MODIFIED:20251017T100000Z
CREATED:20251017T100000Z
SUMMARY;LANGUAGE=de-de:Biotonne
LOCATION:Ebrach\, Bamberg
DTSTART;VALUE=DATE:20260706
END:VEVENT
BEGIN:VEVENT
UID:c121385c-bb4e-4e51-9cba-82fcc9d28397
DTSTAMP:20260423T102331Z
LAST-MODIFIED:20251017T100000Z
CREATED:20251017T100000Z
SUMMARY;LANGUAGE=de-de:Biotonne
LOCATION:Ebrach\, Bamberg
DTSTART;VALUE=DATE:20260720
END:VEVENT
BEGIN:VEVENT
UID:708d32d1-9a3e-4561-a001-f9436828641a
DTSTAMP:20260423T102331Z
LAST-MODIFIED:20251017T100000Z
CREATED:20251017T100000Z
SUMMARY;LANGUAGE=de-de:Biotonne
LOCATION:Ebrach\, Bamberg
DTSTART;VALUE=DATE:20260803
END:VEVENT
BEGIN:VEVENT
UID:a3f78f88-3d99-441a-bb64-c1239393dd6e
DTSTAMP:20260423T102331Z
LAST-MODIFIED:20251017T100000Z
CREATED:20251017T100000Z
SUMMARY;LANGUAGE=de-de:Biotonne
LOCATION:Ebrach\, Bamberg
DTSTART;VALUE=DATE:20260817
END:VEVENT
BEGIN:VEVENT
UID:7fc06046-161e-437f-90d6-32e3dfcffb1d
DTSTAMP:20260423T102331Z
LAST-MODIFIED:20251017T100000Z
CREATED:20251017T100000Z
SUMMARY;LANGUAGE=de-de:Biotonne
LOCATION:Ebrach\, Bamberg
DTSTART;VALUE=DATE:20260831
END:VEVENT
BEGIN:VEVENT
UID:3842dc04-1481-48cb-a80c-a744d9dc13fd
DTSTAMP:20260423T102331Z
LAST-MODIFIED:20251017T100000Z
CREATED:20251017T100000Z
SUMMARY;LANGUAGE=de-de:Biotonne
LOCATION:Ebrach\, Bamberg
DTSTART;VALUE=DATE:20260914
END:VEVENT
BEGIN:VEVENT
UID:60e1c81c-0b94-4db9-baa8-bfbc8fc5483d
DTSTAMP:20260423T102331Z
LAST-MODIFIED:20251017T100000Z
CREATED:20251017T100000Z
SUMMARY;LANGUAGE=de-de:Biotonne
LOCATION:Ebrach\, Bamberg
DTSTART;VALUE=DATE:20260928
END:VEVENT
BEGIN:VEVENT
UID:c8ba6b5f-d237-4e01-9766-499941ba7c7a
DTSTAMP:20260423T102331Z
LAST-MODIFIED:20251017T100000Z
CREATED:20251017T100000Z
SUMMARY;LANGUAGE=de-de:Biotonne
LOCATION:Ebrach\, Bamberg
DTSTART;VALUE=DATE:20261012
END:VEVENT
BEGIN:VEVENT
UID:c25c02c4-d1ef-403e-b064-819816da1d75
DTSTAMP:20260423T102331Z
LAST-MODIFIED:20251017T100000Z
CREATED:20251017T100000Z
SUMMARY;LANGUAGE=de-de:Biotonne
LOCATION:Ebrach\, Bamberg
DTSTART;VALUE=DATE:20261026
END:VEVENT
BEGIN:VEVENT
UID:9eeb175b-dd57-493f-acd5-958c6481ecad
DTSTAMP:20260423T102331Z
LAST-MODIFIED:20251017T100000Z
CREATED:20251017T100000Z
SUMMARY;LANGUAGE=de-de:Biotonne
LOCATION:Ebrach\, Bamberg
DTSTART;VALUE=DATE:20261109
END:VEVENT
BEGIN:VEVENT
UID:2e36ea8c-2761-4bcb-a458-1c3693c799ad
DTSTAMP:20260423T102331Z
LAST-MODIFIED:20251017T100000Z
CREATED:20251017T100000Z
SUMMARY;LANGUAGE=de-de:Biotonne
LOCATION:Ebrach\, Bamberg
DTSTART;VALUE=DATE:20261123
END:VEVENT
BEGIN:VEVENT
UID:fd281fd6-361b-4dbc-8b6a-37804cc35422
DTSTAMP:20260423T102331Z
LAST-MODIFIED:20251017T100000Z
CREATED:20251017T100000Z
SUMMARY;LANGUAGE=de-de:Biotonne
LOCATION:Ebrach\, Bamberg
DTSTART;VALUE=DATE:20261207
END:VEVENT
BEGIN:VEVENT
UID:c6ed118f-7ece-41db-9181-af696ca19aca
DTSTAMP:20260423T102331Z
LAST-MODIFIED:20251017T100000Z
CREATED:20251017T100000Z
SUMMARY;LANGUAGE=de-de:Biotonne
LOCATION:Ebrach\, Bamberg
DTSTART;VALUE=DATE:20261218
END:VEVENT
BEGIN:VEVENT
UID:d21e8c17-3fd6-482f-8b1a-130976772c7d
DTSTAMP:20260423T102331Z
LAST-MODIFIED:20251017T100000Z
CREATED:20251017T100000Z
SUMMARY;LANGUAGE=de-de:Gelber Sack
LOCATION:Ebrach\, Bamberg
DTSTART;VALUE=DATE:20260119
END:VEVENT
BEGIN:VEVENT
UID:d5cb7e1a-dde4-4bfd-856a-543a0de6cda1
DTSTAMP:20260423T102331Z
LAST-MODIFIED:20251017T100000Z
CREATED:20251017T100000Z
SUMMARY;LANGUAGE=de-de:Gelber Sack
LOCATION:Ebrach\, Bamberg
DTSTART;VALUE=DATE:20260216
END:VEVENT
BEGIN:VEVENT
UID:c5c57cc4-608f-477d-8258-895e941c9499
DTSTAMP:20260423T102331Z
LAST-MODIFIED:20251017T100000Z
CREATED:20251017T100000Z
SUMMARY;LANGUAGE=de-de:Gelber Sack
LOCATION:Ebrach\, Bamberg
DTSTART;VALUE=DATE:20260316
END:VEVENT
BEGIN:VEVENT
UID:07e71f4d-beca-4117-b687-0deefdd23e4f
DTSTAMP:20260423T102331Z
LAST-MODIFIED:20251017T100000Z
CREATED:20251017T100000Z
SUMMARY;LANGUAGE=de-de:Gelber Sack
LOCATION:Ebrach\, Bamberg
DTSTART;VALUE=DATE:20260413
END:VEVENT
BEGIN:VEVENT
UID:0c123a30-2dae-4e4b-a7c5-e4495bc05d91
DTSTAMP:20260423T102331Z
LAST-MODIFIED:20251017T100000Z
CREATED:20251017T100000Z
SUMMARY;LANGUAGE=de-de:Gelber Sack
LOCATION:Ebrach\, Bamberg
DTSTART;VALUE=DATE:20260506
END:VEVENT
BEGIN:VEVENT
UID:efbb9b4d-ce30-496e-b905-7c911940836b
DTSTAMP:20260423T102331Z
LAST-MODIFIED:20251017T100000Z
CREATED:20251017T100000Z
SUMMARY;LANGUAGE=de-de:Gelber Sack
LOCATION:Ebrach\, Bamberg
DTSTART;VALUE=DATE:20260608
END:VEVENT
BEGIN:VEVENT
UID:b33a9039-d3b9-4a65-aa8d-b57c7cd68c6f
DTSTAMP:20260423T102331Z
LAST-MODIFIED:20251017T100000Z
CREATED:20251017T100000Z
SUMMARY;LANGUAGE=de-de:Gelber Sack
LOCATION:Ebrach\, Bamberg
DTSTART;VALUE=DATE:20260706
END:VEVENT
BEGIN:VEVENT
UID:b3e99b79-aa9f-476d-8d74-1ba7ffe0ef96
DTSTAMP:20260423T102331Z
LAST-MODIFIED:20251017T100000Z
CREATED:20251017T100000Z
SUMMARY;LANGUAGE=de-de:Gelber Sack
LOCATION:Ebrach\, Bamberg
DTSTART;VALUE=DATE:20260803
END:VEVENT
BEGIN:VEVENT
UID:f027dac6-4542-494a-93c7-d19c1619bd5c
DTSTAMP:20260423T102331Z
LAST-MODIFIED:20251017T100000Z
CREATED:20251017T100000Z
SUMMARY;LANGUAGE=de-de:Gelber Sack
LOCATION:Ebrach\, Bamberg
DTSTART;VALUE=DATE:20260831
END:VEVENT
BEGIN:VEVENT
UID:74768717-5742-4804-888a-becb655755e7
DTSTAMP:20260423T102331Z
LAST-MODIFIED:20251017T100000Z
CREATED:20251017T100000Z
SUMMARY;LANGUAGE=de-de:Gelber Sack
LOCATION:Ebrach\, Bamberg
DTSTART;VALUE=DATE:20260928
END:VEVENT
BEGIN:VEVENT
UID:e19fbb7e-aa23-409b-987f-e8f030c580ac
DTSTAMP:20260423T102331Z
LAST-MODIFIED:20251017T100000Z
CREATED:20251017T100000Z
SUMMARY;LANGUAGE=de-de:Gelber Sack
LOCATION:Ebrach\, Bamberg
DTSTART;VALUE=DATE:20261026
END:VEVENT
BEGIN:VEVENT
UID:f184e428-4f9d-4af0-af1e-70ebc52c435e
DTSTAMP:20260423T102331Z
LAST-MODIFIED:20251017T100000Z
CREATED:20251017T100000Z
SUMMARY;LANGUAGE=de-de:Gelber Sack
LOCATION:Ebrach\, Bamberg
DTSTART;VALUE=DATE:20261123
END:VEVENT
BEGIN:VEVENT
UID:6a2d370d-2a64-4cad-800c-13986d42cdbc
DTSTAMP:20260423T102331Z
LAST-MODIFIED:20251017T100000Z
CREATED:20251017T100000Z
SUMMARY;LANGUAGE=de-de:Gelber Sack
LOCATION:Ebrach\, Bamberg
DTSTART;VALUE=DATE:20261218
END:VEVENT
BEGIN:VEVENT
UID:6fb1e31e-b2c1-4edc-925c-382610e03046
DTSTAMP:20260423T102331Z
LAST-MODIFIED:20251017T100000Z
CREATED:20251017T100000Z
SUMMARY;LANGUAGE=de-de:Windelsack
LOCATION:Ebrach\, Bamberg
DTSTART;VALUE=DATE:20260112
END:VEVENT
BEGIN:VEVENT
UID:843f3421-ca7b-492e-8a78-a1a900b2233e
DTSTAMP:20260423T102331Z
LAST-MODIFIED:20251017T100000Z
CREATED:20251017T100000Z
SUMMARY;LANGUAGE=de-de:Windelsack
LOCATION:Ebrach\, Bamberg
DTSTART;VALUE=DATE:20260202
END:VEVENT
BEGIN:VEVENT
UID:df0decbe-3433-4cc9-ba99-5b269495ec52
DTSTAMP:20260423T102331Z
LAST-MODIFIED:20251017T100000Z
CREATED:20251017T100000Z
SUMMARY;LANGUAGE=de-de:Windelsack
LOCATION:Ebrach\, Bamberg
DTSTART;VALUE=DATE:20260209
END:VEVENT
BEGIN:VEVENT
UID:b6a0030b-4dad-4374-983e-e3a5fe6e30ce
DTSTAMP:20260423T102331Z
LAST-MODIFIED:20251017T100000Z
CREATED:20251017T100000Z
SUMMARY;LANGUAGE=de-de:Windelsack
LOCATION:Ebrach\, Bamberg
DTSTART;VALUE=DATE:20260223
END:VEVENT
BEGIN:VEVENT
UID:d24a22ec-9ee4-482e-bb2f-8fa6a1309423
DTSTAMP:20260423T102331Z
LAST-MODIFIED:20251017T100000Z
CREATED:20251017T100000Z
SUMMARY;LANGUAGE=de-de:Windelsack
LOCATION:Ebrach\, Bamberg
DTSTART;VALUE=DATE:20260309
END:VEVENT
BEGIN:VEVENT
UID:858932be-ab4e-4923-969e-d76f1d840f2b
DTSTAMP:20260423T102331Z
LAST-MODIFIED:20251017T100000Z
CREATED:20251017T100000Z
SUMMARY;LANGUAGE=de-de:Windelsack
LOCATION:Ebrach\, Bamberg
DTSTART;VALUE=DATE:20260323
END:VEVENT
BEGIN:VEVENT
UID:920697fe-7446-4dd4-8a74-20d7e0ffe77d
DTSTAMP:20260423T102331Z
LAST-MODIFIED:20251017T100000Z
CREATED:20251017T100000Z
SUMMARY;LANGUAGE=de-de:Windelsack
LOCATION:Ebrach\, Bamberg
DTSTART;VALUE=DATE:20260407
END:VEVENT
BEGIN:VEVENT
UID:0104ce3b-e33b-4576-bc44-56f4b622e100
DTSTAMP:20260423T102331Z
LAST-MODIFIED:20251017T100000Z
CREATED:20251017T100000Z
SUMMARY;LANGUAGE=de-de:Windelsack
LOCATION:Ebrach\, Bamberg
DTSTART;VALUE=DATE:20260420
END:VEVENT
BEGIN:VEVENT
UID:1f989ed6-ff42-4cba-b631-35c9a541ad43
DTSTAMP:20260423T102331Z
LAST-MODIFIED:20251017T100000Z
CREATED:20251017T100000Z
SUMMARY;LANGUAGE=de-de:Windelsack
LOCATION:Ebrach\, Bamberg
DTSTART;VALUE=DATE:20260505
END:VEVENT
BEGIN:VEVENT
UID:9fb5e426-9ff9-49fd-9cbb-4d7cc7bfc69f
DTSTAMP:20260423T102331Z
LAST-MODIFIED:20251017T100000Z
CREATED:20251017T100000Z
SUMMARY;LANGUAGE=de-de:Windelsack
LOCATION:Ebrach\, Bamberg
DTSTART;VALUE=DATE:20260518
END:VEVENT
BEGIN:VEVENT
UID:bfe3122b-b861-426f-9363-d7b0574bb85f
DTSTAMP:20260423T102331Z
LAST-MODIFIED:20251017T100000Z
CREATED:20251017T100000Z
SUMMARY;LANGUAGE=de-de:Windelsack
LOCATION:Ebrach\, Bamberg
DTSTART;VALUE=DATE:20260601
END:VEVENT
BEGIN:VEVENT
UID:60424edf-20ce-4e9c-9dc6-6c516a3638b9
DTSTAMP:20260423T102331Z
LAST-MODIFIED:20251017T100000Z
CREATED:20251017T100000Z
SUMMARY;LANGUAGE=de-de:Windelsack
LOCATION:Ebrach\, Bamberg
DTSTART;VALUE=DATE:20260615
END:VEVENT
BEGIN:VEVENT
UID:7b62bffc-9e1b-4d6c-9113-e631d860acc9
DTSTAMP:20260423T102331Z
LAST-MODIFIED:20251017T100000Z
CREATED:20251017T100000Z
SUMMARY;LANGUAGE=de-de:Windelsack
LOCATION:Ebrach\, Bamberg
DTSTART;VALUE=DATE:20260629
END:VEVENT
BEGIN:VEVENT
UID:46d8f088-fff8-437c-9904-6e62fa60798e
DTSTAMP:20260423T102331Z
LAST-MODIFIED:20251017T100000Z
CREATED:20251017T100000Z
SUMMARY;LANGUAGE=de-de:Windelsack
LOCATION:Ebrach\, Bamberg
DTSTART;VALUE=DATE:20260713
END:VEVENT
BEGIN:VEVENT
UID:718d5296-0d02-49e5-9582-5a360c78811e
DTSTAMP:20260423T102331Z
LAST-MODIFIED:20251017T100000Z
CREATED:20251017T100000Z
SUMMARY;LANGUAGE=de-de:Windelsack
LOCATION:Ebrach\, Bamberg
DTSTART;VALUE=DATE:20260727
END:VEVENT
BEGIN:VEVENT
UID:5e5d00fd-9182-4b71-845a-5e6a4ad663e8
DTSTAMP:20260423T102331Z
LAST-MODIFIED:20251017T100000Z
CREATED:20251017T100000Z
SUMMARY;LANGUAGE=de-de:Windelsack
LOCATION:Ebrach\, Bamberg
DTSTART;VALUE=DATE:20260810
END:VEVENT
BEGIN:VEVENT
UID:bce93e81-ad5d-4ee8-a28f-7e4ba66ce4fe
DTSTAMP:20260423T102331Z
LAST-MODIFIED:20251017T100000Z
CREATED:20251017T100000Z
SUMMARY;LANGUAGE=de-de:Windelsack
LOCATION:Ebrach\, Bamberg
DTSTART;VALUE=DATE:20260824
END:VEVENT
BEGIN:VEVENT
UID:69901ae4-eef9-401a-ac3f-293bb441d8dc
DTSTAMP:20260423T102331Z
LAST-MODIFIED:20251017T100000Z
CREATED:20251017T100000Z
SUMMARY;LANGUAGE=de-de:Windelsack
LOCATION:Ebrach\, Bamberg
DTSTART;VALUE=DATE:20260907
END:VEVENT
BEGIN:VEVENT
UID:40bd757d-9b32-4fbd-8977-3aa5deef5438
DTSTAMP:20260423T102331Z
LAST-MODIFIED:20251017T100000Z
CREATED:20251017T100000Z
SUMMARY;LANGUAGE=de-de:Windelsack
LOCATION:Ebrach\, Bamberg
DTSTART;VALUE=DATE:20260921
END:VEVENT
BEGIN:VEVENT
UID:b6cfe7e3-216d-40cb-b5d8-e67956c4ea73
DTSTAMP:20260423T102331Z
LAST-MODIFIED:20251017T100000Z
CREATED:20251017T100000Z
SUMMARY;LANGUAGE=de-de:Windelsack
LOCATION:Ebrach\, Bamberg
DTSTART;VALUE=DATE:20261005
END:VEVENT
BEGIN:VEVENT
UID:d54cc842-a319-48f4-8e83-5dda1f78b02c
DTSTAMP:20260423T102331Z
LAST-MODIFIED:20251017T100000Z
CREATED:20251017T100000Z
SUMMARY;LANGUAGE=de-de:Windelsack
LOCATION:Ebrach\, Bamberg
DTSTART;VALUE=DATE:20261019
END:VEVENT
BEGIN:VEVENT
UID:30a26997-17e2-4c80-8152-d01b5bd18084
DTSTAMP:20260423T102331Z
LAST-MODIFIED:20251017T100000Z
CREATED:20251017T100000Z
SUMMARY;LANGUAGE=de-de:Windelsack
LOCATION:Ebrach\, Bamberg
DTSTART;VALUE=DATE:20261102
END:VEVENT
BEGIN:VEVENT
UID:f7f748d9-5a94-40cc-b477-b4731156c099
DTSTAMP:20260423T102331Z
LAST-MODIFIED:20251017T100000Z
CREATED:20251017T100000Z
SUMMARY;LANGUAGE=de-de:Windelsack
LOCATION:Ebrach\, Bamberg
DTSTART;VALUE=DATE:20261116
END:VEVENT
BEGIN:VEVENT
UID:78fc9bf3-2e84-45b1-8307-c56f97882747
DTSTAMP:20260423T102331Z
LAST-MODIFIED:20251017T100000Z
CREATED:20251017T100000Z
SUMMARY;LANGUAGE=de-de:Windelsack
LOCATION:Ebrach\, Bamberg
DTSTART;VALUE=DATE:20261130
END:VEVENT
BEGIN:VEVENT
UID:a67f54ee-6f0d-43d3-82d3-a6f51e01b670
DTSTAMP:20260423T102331Z
LAST-MODIFIED:20251017T100000Z
CREATED:20251017T100000Z
SUMMARY;LANGUAGE=de-de:Windelsack
LOCATION:Ebrach\, Bamberg
DTSTART;VALUE=DATE:20261212
END:VEVENT
BEGIN:VEVENT
UID:5f773da2-b75a-4832-8954-ed850bbd7271
DTSTAMP:20260423T102331Z
LAST-MODIFIED:20251017T100000Z
CREATED:20251017T100000Z
SUMMARY;LANGUAGE=de-de:Windelsack
LOCATION:Ebrach\, Bamberg
DTSTART;VALUE=DATE:20261228
END:VEVENT
BEGIN:VEVENT
UID:348cf839-eb4c-47da-808a-a70d103809b0
DTSTAMP:20260423T102331Z
LAST-MODIFIED:20251017T100000Z
CREATED:20251017T100000Z
SUMMARY;LANGUAGE=de-de:Papiertonne
LOCATION:Ebrach\, Bamberg
DTSTART;VALUE=DATE:20260127
END:VEVENT
BEGIN:VEVENT
UID:c870a85b-2bbe-49a7-a012-547ed9a0ab63
DTSTAMP:20260423T102331Z
LAST-MODIFIED:20251017T100000Z
CREATED:20251017T100000Z
SUMMARY;LANGUAGE=de-de:Papiertonne
LOCATION:Ebrach\, Bamberg
DTSTART;VALUE=DATE:20260224
END:VEVENT
BEGIN:VEVENT
UID:e8f63b70-5f49-47eb-b764-a121b8551925
DTSTAMP:20260423T102331Z
LAST-MODIFIED:20251017T100000Z
CREATED:20251017T100000Z
SUMMARY;LANGUAGE=de-de:Papiertonne
LOCATION:Ebrach\, Bamberg
DTSTART;VALUE=DATE:20260324
END:VEVENT
BEGIN:VEVENT
UID:190df7d9-6884-42b3-aa6f-474b0bd5f5bd
DTSTAMP:20260423T102331Z
LAST-MODIFIED:20251017T100000Z
CREATED:20251017T100000Z
SUMMARY;LANGUAGE=de-de:Papiertonne
LOCATION:Ebrach\, Bamberg
DTSTART;VALUE=DATE:20260421
END:VEVENT
BEGIN:VEVENT
UID:3f9d2a18-64fe-44e4-95e1-2ba6e6076cdc
DTSTAMP:20260423T102331Z
LAST-MODIFIED:20251017T100000Z
CREATED:20251017T100000Z
SUMMARY;LANGUAGE=de-de:Papiertonne
LOCATION:Ebrach\, Bamberg
DTSTART;VALUE=DATE:20260519
END:VEVENT
BEGIN:VEVENT
UID:18c6665e-82db-4eb0-a4da-08a2a3e56436
DTSTAMP:20260423T102331Z
LAST-MODIFIED:20251017T100000Z
CREATED:20251017T100000Z
SUMMARY;LANGUAGE=de-de:Papiertonne
LOCATION:Ebrach\, Bamberg
DTSTART;VALUE=DATE:20260616
END:VEVENT
BEGIN:VEVENT
UID:73c035d7-1fac-47c4-8934-b3b6ef7a85f7
DTSTAMP:20260423T102331Z
LAST-MODIFIED:20251017T100000Z
CREATED:20251017T100000Z
SUMMARY;LANGUAGE=de-de:Papiertonne
LOCATION:Ebrach\, Bamberg
DTSTART;VALUE=DATE:20260714
END:VEVENT
BEGIN:VEVENT
UID:7aae1d11-5719-4402-9e23-7f3c7579d4c3
DTSTAMP:20260423T102331Z
LAST-MODIFIED:20251017T100000Z
CREATED:20251017T100000Z
SUMMARY;LANGUAGE=de-de:Papiertonne
LOCATION:Ebrach\, Bamberg
DTSTART;VALUE=DATE:20260811
END:VEVENT
BEGIN:VEVENT
UID:e551c110-1f68-4ae9-8d74-39f79f854c2c
DTSTAMP:20260423T102331Z
LAST-MODIFIED:20251017T100000Z
CREATED:20251017T100000Z
SUMMARY;LANGUAGE=de-de:Papiertonne
LOCATION:Ebrach\, Bamberg
DTSTART;VALUE=DATE:20260908
END:VEVENT
BEGIN:VEVENT
UID:8f28d88b-ba8c-47a2-8e25-efa8d898d4d2
DTSTAMP:20260423T102331Z
LAST-MODIFIED:20251017T100000Z
CREATED:20251017T100000Z
SUMMARY;LANGUAGE=de-de:Papiertonne
LOCATION:Ebrach\, Bamberg
DTSTART;VALUE=DATE:20261006
END:VEVENT
BEGIN:VEVENT
UID:7ba6633f-d53a-470c-aba4-838d209b2eb8
DTSTAMP:20260423T102331Z
LAST-MODIFIED:20251017T100000Z
CREATED:20251017T100000Z
SUMMARY;LANGUAGE=de-de:Papiertonne
LOCATION:Ebrach\, Bamberg
DTSTART;VALUE=DATE:20261103
END:VEVENT
BEGIN:VEVENT
UID:fbf4d41c-9774-4d3f-9b8f-71cf817e7697
DTSTAMP:20260423T102331Z
LAST-MODIFIED:20251017T100000Z
CREATED:20251017T100000Z
SUMMARY;LANGUAGE=de-de:Papiertonne
LOCATION:Ebrach\, Bamberg
DTSTART;VALUE=DATE:20261201
END:VEVENT
BEGIN:VEVENT
UID:9270e74a-042b-4007-8ca2-991d4dcdd63e
DTSTAMP:20260423T102331Z
LAST-MODIFIED:20251017T100000Z
CREATED:20251017T100000Z
SUMMARY;LANGUAGE=de-de:Papiertonne
LOCATION:Ebrach\, Bamberg
DTSTART;VALUE=DATE:20261228
END:VEVENT
BEGIN:VEVENT
UID:8a665b8c-ffed-400f-be9d-e919019575a2
DTSTAMP:20260423T102331Z
LAST-MODIFIED:20251017T100000Z
CREATED:20251017T100000Z
SUMMARY;LANGUAGE=de-de:Sperrmüllanmeldung
LOCATION:Ebrach\, Bamberg
DTSTART;VALUE=DATE:20260205
END:VEVENT
BEGIN:VEVENT
UID:2c9c198e-ac2e-4c64-8bd0-044b27fe7b8e
DTSTAMP:20260423T102331Z
LAST-MODIFIED:20251017T100000Z
CREATED:20251017T100000Z
SUMMARY;LANGUAGE=de-de:Sperrmüllanmeldung
LOCATION:Ebrach\, Bamberg
DTSTART;VALUE=DATE:20260409
END:VEVENT
BEGIN:VEVENT
UID:55f3aa2c-e380-4fb6-8425-eb6cb7d8b220
DTSTAMP:20260423T102331Z
LAST-MODIFIED:20251017T100000Z
CREATED:20251017T100000Z
SUMMARY;LANGUAGE=de-de:Sperrmüllanmeldung
LOCATION:Ebrach\, Bamberg
DTSTART;VALUE=DATE:20260609
END:VEVENT
BEGIN:VEVENT
UID:8f028113-6094-4efb-862c-0867e98d2e94
DTSTAMP:20260423T102331Z
LAST-MODIFIED:20251017T100000Z
CREATED:20251017T100000Z
SUMMARY;LANGUAGE=de-de:Sperrmüllanmeldung
LOCATION:Ebrach\, Bamberg
DTSTART;VALUE=DATE:20260806
END:VEVENT
BEGIN:VEVENT
UID:4469c845-3228-4c0b-8427-25b62fcaf06d
DTSTAMP:20260423T102331Z
LAST-MODIFIED:20251017T100000Z
CREATED:20251017T100000Z
SUMMARY;LANGUAGE=de-de:Sperrmüllanmeldung
LOCATION:Ebrach\, Bamberg
DTSTART;VALUE=DATE:20261008
END:VEVENT
BEGIN:VEVENT
UID:5782f162-f95a-4c84-99fa-5e06f1115f50
DTSTAMP:20260423T102331Z
LAST-MODIFIED:20251017T100000Z
CREATED:20251017T100000Z
SUMMARY;LANGUAGE=de-de:Sperrmüllanmeldung
LOCATION:Ebrach\, Bamberg
DTSTART;VALUE=DATE:20261210
END:VEVENT
BEGIN:VEVENT
UID:d249cff9-ee54-4f7c-81b6-36c6cf5ac1a6
DTSTAMP:20260423T102331Z
LAST-MODIFIED:20251017T100000Z
CREATED:20251017T100000Z
SUMMARY;LANGUAGE=de-de:Problemmüll
LOCATION:Ebrach\, Bamberg
DTSTART;VALUE=DATE:20260516
END:VEVENT
BEGIN:VEVENT
UID:f5ede80f-d720-4310-86d6-8072ee6e00af
DTSTAMP:20260423T102331Z
LAST-MODIFIED:20251017T100000Z
CREATED:20251017T100000Z
SUMMARY;LANGUAGE=de-de:Problemmüll
LOCATION:Ebrach\, Bamberg
DTSTART;VALUE=DATE:20261107
END:VEVENT
END:VCALENDAR
